BEGIN:VCALENDAR
VERSION:2.0
PRODID:-//ChamberMaster//Event Calendar 2.0//EN
METHOD:PUBLISH
X-PUBLISHED-TTL:P3D
REFRESH-INTERVAL:P3D
CALSCALE:GREGORIAN
BEGIN:VEVENT
DTSTART:20190612T130000Z
DTEND:20190612T200000Z
X-MICROSOFT-CDO-ALLDAYEVENT:FALSE
SUMMARY:2019 Annual Summer Golf Outing
DESCRIPTION:6/3/2019 UPDATE - Our Team Roster is SOLD OUT. Cart and Hole Sponsorships are still available. Please contact the Chamber at 330-343-4474 for more information.\n\n\n\nJoin us for our annual Summer Golf Outing! This event is only open to members of the Tuscarawas County Chamber of Commerce and their guests and will fill quickly. Download a sponsorship and registration form or click the "Register Now" button to secure your sponsorship and team. (Member log-in required for online registration\, contact Chrissy Blackwell at 330-343-4474 for assistance if you do not have a username or password).
X-ALT-DESC;FMTTYPE=text/html:<p>6/3/2019 UPDATE - Our Team Roster is SOLD OUT. Cart and Hole Sponsorships are still available. Please contact the Chamber at 330-343-4474 for more information.<br />\n<br />\nJoin us for our annual Summer Golf Outing! This event is only open to members of the Tuscarawas County Chamber of Commerce and their guests and will fill quickly. <a href="https://chambermaster.blob.core.windows.net/userfiles/UserFiles/chambers/1349/File/Golf_Outing/2019GolfOutingRegistrationFlyerv1.pdf">Download a sponsorship and registration form</a>&nbsp\;or click the &quot\;Register Now&quot\; button to secure your sponsorship and team. (Member log-in required for online registration\, contact Chrissy Blackwell at 330-343-4474 for assistance if you do not have a username or password).<br />\n&nbsp\;</p>\n
LOCATION:Union Country Club 1000 North Bellevue Avenue Dover\, OH 44622
UID:e.1349.753
SEQUENCE:3
DTSTAMP:20260419T222639Z
URL:http://business.tuschamber.com/events/details/2019-annual-summer-golf-outing-753
END:VEVENT

END:VCALENDAR
