BEGIN:VCALENDAR
VERSION:2.0
PRODID:-//ChamberMaster//Event Calendar 2.0//EN
METHOD:PUBLISH
X-PUBLISHED-TTL:P3D
REFRESH-INTERVAL:P3D
CALSCALE:GREGORIAN
BEGIN:VEVENT
DTSTART:20210401T160000Z
DTEND:20210401T173000Z
X-MICROSOFT-CDO-ALLDAYEVENT:FALSE
SUMMARY:Ambassadors Committee Meeting
DESCRIPTION:Ambassadors Committee (Meets on first Thursday of the month at 12:00pm)\n\nThis committee actively assists with each Business After Hours\, at Golf Outings and other Chamber events. They also make visits to existing members and deliver plaques to new members.\n\n\n\nContact Mike Mason at 330-343-4474 for details and more information.
X-ALT-DESC;FMTTYPE=text/html:<h3><br />\nAmbassadors Committee (Meets on first Thursday of the month at 12:00pm)</h3>\n\n<p>This committee actively assists with each Business After Hours\, at Golf Outings and other Chamber events. They also make visits to existing members and deliver plaques to new members.<br />\n<br />\nContact Mike Mason at 330-343-4474 for details and more information.</p>\n
LOCATION:Location TBA
UID:e.1349.615
SEQUENCE:3
DTSTAMP:20260425T032338Z
URL:http://business.tuschamber.com/events/details/ambassadors-committee-meeting-04-01-2021-615
END:VEVENT

END:VCALENDAR
