BEGIN:VCALENDAR
VERSION:2.0
PRODID:-//ChamberMaster//Event Calendar 2.0//EN
METHOD:PUBLISH
X-PUBLISHED-TTL:P3D
REFRESH-INTERVAL:P3D
CALSCALE:GREGORIAN
BEGIN:VEVENT
DTSTART:20190815T203000Z
DTEND:20190815T223000Z
X-MICROSOFT-CDO-ALLDAYEVENT:FALSE
SUMMARY:August Business After Hours
DESCRIPTION:Join us at 77 Inn & Grill in New Philadelphia great networking and door prizes. This event is open to chamber members and guests.\n\n\n\nRegister online by clicking the "Register Now" button above or downloading our printable registration form. Payment in advance (cash\, check\, and credit card) or at the door (cash or check only) is appreciated.
X-ALT-DESC;FMTTYPE=text/html:Join us at 77 Inn &amp\; Grill in New Philadelphia great networking and door prizes. This event is open to chamber members and guests.<br />\n<br />\nRegister online by clicking the &quot\;Register Now&quot\; button above or <strong><a href="https://chambermaster.blob.core.windows.net/userfiles/UserFiles/chambers/1349/File/BAH/AugustBAH-77InnandGrill.pdf">downloading our printable registration form</a></strong>. Payment in advance (cash\, check\, and credit card) or at the door (cash or check only) is appreciated.&nbsp\;
LOCATION:77 Inn & Grill 889 Commercial Parkway Dover\, OH 44622
UID:e.1349.770
SEQUENCE:3
DTSTAMP:20260420T174856Z
URL:http://business.tuschamber.com/events/details/august-business-after-hours-770
END:VEVENT

END:VCALENDAR
