BEGIN:VCALENDAR
VERSION:2.0
PRODID:-//ChamberMaster//Event Calendar 2.0//EN
METHOD:PUBLISH
X-PUBLISHED-TTL:P3D
REFRESH-INTERVAL:P3D
CALSCALE:GREGORIAN
BEGIN:VEVENT
DTSTART:20180816T153000Z
DTEND:20180816T170000Z
X-MICROSOFT-CDO-ALLDAYEVENT:FALSE
SUMMARY:August Safety Council
DESCRIPTION:Topic: Machine Safeguarding\n\nPresented By: Roger Harrison\, Rockford Systems\, LLC
X-ALT-DESC;FMTTYPE=text/html:<br />\n<b>Topic: Machine Safeguarding<br />\nPresented By: Roger Harrison\, Rockford Systems\, LLC</b><br />\n<br />\n&nbsp\;
LOCATION:Dutch Valley Restaurant 1343 Old Route 39 NE Sugarcreek\, Ohio 44681
UID:e.1349.582
SEQUENCE:3
DTSTAMP:20260423T212059Z
URL:http://business.tuschamber.com/events/details/august-safety-council-582
END:VEVENT

END:VCALENDAR
