BEGIN:VCALENDAR
VERSION:2.0
PRODID:-//ChamberMaster//Event Calendar 2.0//EN
METHOD:PUBLISH
X-PUBLISHED-TTL:P3D
REFRESH-INTERVAL:P3D
CALSCALE:GREGORIAN
BEGIN:VEVENT
DTSTART:20190815T153000Z
DTEND:20190815T170000Z
X-MICROSOFT-CDO-ALLDAYEVENT:FALSE
SUMMARY:August Safety Council
DESCRIPTION:Topic: Trenching & Excavation Hazards\n\nPresented By: Eric White\, CHST\, Construction Safety Consultant Specialist\, Ohio Bureau of Workers' Compensation\n\n\n\nEric White is a Construction Safety Consultant for the Ohio Bureau of Workers' Compensation\, Division of Safety & Hygiene.  Mr. White has been with the Division for 20 years and in the safety field for 25 years.  Prior to coming to work for the Division of Safety & Hygiene Mr. White held positions with the Mechanical Contractors' Association\, Honda of America\, OHM Corporation and worked many years as a carpenter.  He holds a BS in Environmental Hazardous Materials Management/Industrial Hygiene from the University of Findlay.
X-ALT-DESC;FMTTYPE=text/html:<p><br />\nTopic: Trenching &amp\; Excavation Hazards<br />\nPresented By: Eric White\, CHST\, Construction Safety Consultant Specialist\, Ohio Bureau of Workers&#39\; Compensation<br />\n<br />\nEric White is a Construction Safety Consultant for the Ohio Bureau of Workers&rsquo\; Compensation\, Division of Safety &amp\; Hygiene.&nbsp\; Mr. White has been with the Division for 20 years and in the safety field for 25 years.&nbsp\; Prior to coming to work for the Division of Safety &amp\; Hygiene Mr. White held positions with the Mechanical Contractors&rsquo\; Association\, Honda of America\, OHM Corporation and worked many years as a carpenter.&nbsp\; He holds a BS in Environmental Hazardous Materials Management/Industrial Hygiene from the University of Findlay.<br />\n<br />\n&nbsp\;</p>\n
LOCATION:Dutch Valley Restaurant 1343 Old Route 39 NE Sugarcreek\, Ohio 44681
UID:e.1349.769
SEQUENCE:3
DTSTAMP:20260420T021906Z
URL:http://business.tuschamber.com/events/details/august-safety-council-769
END:VEVENT

END:VCALENDAR
