BEGIN:VCALENDAR
VERSION:2.0
PRODID:-//ChamberMaster//Event Calendar 2.0//EN
METHOD:PUBLISH
X-PUBLISHED-TTL:P3D
REFRESH-INTERVAL:P3D
CALSCALE:GREGORIAN
BEGIN:VEVENT
DTSTART:20201014T123000Z
DTEND:20201014T204500Z
X-MICROSOFT-CDO-ALLDAYEVENT:FALSE
SUMMARY:BWC Virtual Class: Electrical Safety in the Workplace (Full Day Class)
DESCRIPTION:BWC will be offering a small number of classes virtually during the COVID19 pandemic. All classroom classes have been cancelled for 2020\, and classroom cancellations will likely extend to most of the fiscal year ending June 2021. Virtual Training will provide an opportunity for students to learn remotely\, while still ensuring the safety of our customers. All credits associated with a training class scheduled at a physical location\, will also be provided to any Virtual Training classes. .\n\n\n\nWho should attend? Contractors\, maintenance workers\, and others who work with electricity\n\n\n\nYou will learn:\n\n	An overview of the hazards of electricity.\n	Standards and requirements of the NFPA 70E.\n	How to analyze flash hazards.\n	How to protect against flash hazards.\n	How to plan safe work practices.\n	How to select PPE.\n\nAfter this course\, you will be able to:\n\n\n	Explain workplace hazards involving electricity.\n	List requirements of the NFPA 70E.\n	Evaluate work practices and suggest safety measures to reduce risk.
X-ALT-DESC;FMTTYPE=text/html:BWC will be offering a small number of classes virtually during the COVID19 pandemic. All classroom classes have been cancelled for 2020\, and classroom cancellations will likely extend to most of the fiscal year ending June 2021. Virtual Training will provide an opportunity for students to learn remotely\, while still ensuring the safety of our customers. All credits associated with a training class scheduled at a physical location\, will also be provided to any Virtual Training classes. .<br />\n<br />\nWho should attend?&nbsp\;Contractors\, maintenance workers\, and others who work with electricity<br />\n<br />\nYou will learn:\n<ul>\n	<li>An overview of the hazards of electricity.</li>\n	<li>Standards and requirements of the NFPA 70E.</li>\n	<li>How to analyze flash hazards.</li>\n	<li>How to protect against flash hazards.</li>\n	<li>How to plan safe work practices.</li>\n	<li>How to select PPE.</li>\n</ul>\nAfter this course\, you will be able to:\n\n<ul>\n	<li>Explain workplace hazards involving electricity.</li>\n	<li>List requirements of the NFPA 70E.</li>\n	<li>Evaluate work practices and suggest safety measures to reduce risk.</li>\n</ul>\n
LOCATION:Online via WebEx
UID:e.1349.930
SEQUENCE:3
DTSTAMP:20260420T081422Z
URL:http://business.tuschamber.com/events/details/bwc-virtual-class-electrical-safety-in-the-workplace-full-day-class-930
END:VEVENT

END:VCALENDAR
