BEGIN:VCALENDAR
VERSION:2.0
PRODID:-//ChamberMaster//Event Calendar 2.0//EN
METHOD:PUBLISH
X-PUBLISHED-TTL:P3D
REFRESH-INTERVAL:P3D
CALSCALE:GREGORIAN
BEGIN:VEVENT
DTSTART:20191219T163000Z
DTEND:20191219T180000Z
X-MICROSOFT-CDO-ALLDAYEVENT:FALSE
SUMMARY:December Safety Council
DESCRIPTION:Topic: Crisis Communications\n\nPresented By: Stephanie York\, Vice President & In-House Counsel\, Hennes Communications\n\n\n\nEspecially in today's world of immediate information\, when reporters won't wait long for you to return that call before posting the story online and where virtually everyone is a "journalist" armed with a camera and able to reach thousands of people with one simple Facebook message\, managing communications amid a crisis is a necessary skill set for business leaders.\n\n\n\nThis fast-paced talk by crisis communications and media specialist Stephanie York\, from Hennes Communications in Akron (www.crisiscommunications.com)\, will focus on a highly-strategic approach to communicating during a wide variety of situations\, offering methods for establishing and maintaining "control of the message\," enabling you to move your message forward or mount a defense against a sudden press onslaught.\n\n\n\nStephanie York is Vice President and In-House Counsel at Hennes Communications\, one the few firms in the U.S. focused exclusively on crisis communications and crisis management.\n\n\n\nHennes Communications serves corporations\, government agencies\, nonprofits\, education and healthcare institutions\, as well as law firms and their clients\, that are "on trial" in the Court of Public Opinion. \n\n\n\nWith over 25 years' experience in law and communications\, Stephanie and the firm's past and present clients include the 2016 Cleveland Host Committee for the recent Republican National Convention\, ThyssenKrupp\, Avery Dennison\, Lubrizol\, Kent State University\, Oberlin College and the NASA\, as well as scores of municipalities and law firms across the U.S.  \n\n\n\nBetter recognized as the Assistant Director of Law and spokesperson for the City of Akron and former Mayor Don Plusquellic\, Stephanie serves on many local non-profit boards\, including United Way of Summit County\, the Akron Symphony and the Jewish Community Board of Akron.  \n\nRSVP by Wednesday\, December 18 by clicking the "Register" button above\, emailing info@tuschamber.com\, or calling 330-343-4474. Payment can be paid in advance or at the door via cash\, check\, or credit card.
X-ALT-DESC;FMTTYPE=text/html:<p><br />\nTopic: Crisis Communications<br />\nPresented By: Stephanie York\, Vice President &amp\; In-House Counsel\, Hennes Communications<br />\n<br />\nEspecially in today&rsquo\;s world of immediate information\, when reporters won&rsquo\;t wait long for you to return that call before posting the story online and where virtually everyone is a &ldquo\;journalist&rdquo\; armed with a camera and able to reach thousands of people with one simple Facebook message\, managing communications amid a crisis is a necessary skill set for business leaders.<br />\n<br />\nThis fast-paced talk by crisis communications and media specialist Stephanie York\, from Hennes Communications in Akron (<a href="http://www.crisiscommunications.com/">www.crisiscommunications.com</a>)\, will focus on a highly-strategic approach to communicating during a wide variety of situations\, offering methods for establishing and maintaining &ldquo\;control of the message\,&rdquo\; enabling you to move your message forward or mount a defense against a sudden press onslaught.<br />\n<br />\nStephanie York is Vice President and In-House Counsel at Hennes Communications\, one the few firms in the U.S. focused exclusively on crisis communications and crisis management.<br />\n<br />\nHennes Communications serves corporations\, government agencies\, nonprofits\, education and healthcare institutions\, as well as law firms and their clients\, that are &ldquo\;on trial&rdquo\; in the Court of Public Opinion.&nbsp\;<br />\n<br />\nWith over 25 years&rsquo\; experience in law and communications\, Stephanie and the firm&rsquo\;s past and present clients include the 2016 Cleveland Host Committee for the recent Republican National Convention\, ThyssenKrupp\, Avery Dennison\, Lubrizol\, Kent State University\, Oberlin College and the NASA\, as well as scores of municipalities and law firms across the U.S.&nbsp\;&nbsp\;<br />\n<br />\nBetter recognized as the Assistant Director of Law and spokesperson for the City of Akron and former Mayor Don Plusquellic\, Stephanie serves on many local non-profit boards\, including United Way of Summit County\, the Akron Symphony and the Jewish Community Board of Akron.&nbsp\;&nbsp\;</p>\n\n<p>RSVP by Wednesday\, December 18&nbsp\;by clicking the &quot\;Register&quot\; button above\, emailing info@tuschamber.com\, or calling 330-343-4474. Payment can be paid in advance or at the door via cash\, check\, or credit card.</p>\n
LOCATION:Dutch Valley Restaurant 1343 Old Route 39 NE Sugarcreek\, Ohio 44681
UID:e.1349.785
SEQUENCE:3
DTSTAMP:20260420T032719Z
URL:http://business.tuschamber.com/events/details/december-safety-council-785
END:VEVENT

END:VCALENDAR
