BEGIN:VCALENDAR
VERSION:2.0
PRODID:-//ChamberMaster//Event Calendar 2.0//EN
METHOD:PUBLISH
X-PUBLISHED-TTL:P3D
REFRESH-INTERVAL:P3D
CALSCALE:GREGORIAN
BEGIN:VEVENT
DTSTART:20190220T213000Z
DTEND:20190220T233000Z
X-MICROSOFT-CDO-ALLDAYEVENT:FALSE
SUMMARY:February Business After Hours
DESCRIPTION:Come meet the newly-expanded ComDoc team for the Tuscarawas Valley! Refreshments by Benson's Market & Catering\, door prizes and great networking. \n\n\n\nRegister online by clicking the "Register Now" button at the top right of this page\, or download a printable PDF registration form and return to the Chamber office by email\, fax\, or mail.
X-ALT-DESC;FMTTYPE=text/html:<p>Come meet the newly-expanded ComDoc team for the Tuscarawas Valley! Refreshments by Benson&#39\;s Market &amp\; Catering\, door prizes and great networking.&nbsp\;<br />\n<br />\nRegister online by clicking the &quot\;Register Now&quot\; button at the top right of this page\, or <a href="https://chambermaster.blob.core.windows.net/userfiles/UserFiles/chambers/1349/File/BAH/Feb2019BAH-ComDoc.pdf">download a printable PDF registration form</a>&nbsp\;and return to the Chamber office by email\, fax\, or mail.&nbsp\;<br />\n<br />\n&nbsp\;</p>\n
LOCATION:ComDoc\, Inc. 320 North Wooster Avenue\, Suite D Dover\, OH 44622
UID:e.1349.751
SEQUENCE:3
DTSTAMP:20260423T085046Z
URL:http://business.tuschamber.com/events/details/february-business-after-hours-751
END:VEVENT

END:VCALENDAR
