BEGIN:VCALENDAR
VERSION:2.0
PRODID:-//ChamberMaster//Event Calendar 2.0//EN
METHOD:PUBLISH
X-PUBLISHED-TTL:P3D
REFRESH-INTERVAL:P3D
CALSCALE:GREGORIAN
BEGIN:VEVENT
DTSTART:20190221T163000Z
DTEND:20190221T180000Z
X-MICROSOFT-CDO-ALLDAYEVENT:FALSE
SUMMARY:February Safety Council
DESCRIPTION:Topic: "Participating in the Whole Community Approach to Building a Disaster-Resilient County"\n\nPresented By: Alex McCarthy\, Director of the Tuscarawas County Homeland Security and Emergency Management Agency
X-ALT-DESC;FMTTYPE=text/html:<p><br />\nTopic: &quot\;<span style="font-family:calibri\,sans-serif\;"><span style="font-size:11.0pt\;">Participating in the Whole Community Approach to Building a Disaster-Resilient County&quot\;<br />\nPresented By: Alex McCarthy\, Director of the Tuscarawas County Homeland Security and Emergency Management Agency</span></span></p>\n
LOCATION:Dutch Valley Restaurant 1343 Old Route 39 NE Sugarcreek\, Ohio 44681
UID:e.1349.752
SEQUENCE:3
DTSTAMP:20260421T053753Z
URL:http://business.tuschamber.com/events/details/february-safety-council-752
END:VEVENT

END:VCALENDAR
