BEGIN:VCALENDAR
VERSION:2.0
PRODID:-//ChamberMaster//Event Calendar 2.0//EN
METHOD:PUBLISH
X-PUBLISHED-TTL:P3D
REFRESH-INTERVAL:P3D
CALSCALE:GREGORIAN
BEGIN:VEVENT
DTSTART:20190515T203000Z
DTEND:20190515T223000Z
X-MICROSOFT-CDO-ALLDAYEVENT:FALSE
SUMMARY:May Business After Hours
DESCRIPTION:Come celebrate Community Mental Healthcare's 50 Years of Service in 2019 at our May Business After Hours! Enjoy delicious food from Hog Heaven BBQ with Great networking and door prizes too - don't forget your business cards. Register online by clicking the "Register" link above or download our registration form. \n\n\n\nDownload Registration Form - Click Here
X-ALT-DESC;FMTTYPE=text/html:<p>Come celebrate Community Mental Healthcare&#39\;s 50 Years of Service in 2019 at our May Business After Hours! Enjoy delicious food from Hog Heaven BBQ&nbsp\;with&nbsp\;Great networking and door prizes too - don&#39\;t forget your business cards. Register online by clicking the &quot\;Register&quot\; link above or download our registration form.&nbsp\;<br />\n<br />\n<strong><a href="https://chambermaster.blob.core.windows.net/userfiles/UserFiles/chambers/1349/File/BAH/May-BAH---CMH.pdf">Download Registration Form - Click Here</a></strong></p>\n
LOCATION:Community Mental Healthcare 201 Hospital Drive Dover\, OH 44622
UID:e.1349.764
SEQUENCE:3
DTSTAMP:20260419T123959Z
URL:http://business.tuschamber.com/events/details/may-business-after-hours-764
END:VEVENT

END:VCALENDAR
