BEGIN:VCALENDAR
VERSION:2.0
PRODID:-//ChamberMaster//Event Calendar 2.0//EN
METHOD:PUBLISH
X-PUBLISHED-TTL:P3D
REFRESH-INTERVAL:P3D
CALSCALE:GREGORIAN
BEGIN:VEVENT
DTSTART:20191009T203000Z
DTEND:20191009T223000Z
X-MICROSOFT-CDO-ALLDAYEVENT:FALSE
SUMMARY:October Business After Hours
DESCRIPTION:Enjoy great networking\, hors d'oeuvres by Benson's Market & Catering\, and fabulous door prizes at our October Business After Hours\, hosted by Rodriguez's House of Stones in Downtown New Philadelphia.\n\n\n\nCost is $10 per person for chamber members\, payable in advance or at the door by cash\, check\, or (new!) credit card.\n\n\n\nRSVP by October 8\, 2019 by clicking the Register Now button\, calling 330-343-4474 or emailing info@tuschamber.com.\n\n\n\nDownload a printable PDF registration form - Click Here
X-ALT-DESC;FMTTYPE=text/html:Enjoy great networking\, hors d&#39\;oeuvres by Benson&#39\;s Market &amp\; Catering\, and fabulous door prizes at our October Business After Hours\, hosted by Rodriguez&#39\;s House of Stones in Downtown New Philadelphia.<br />\n<br />\nCost is $10 per person for chamber members\, payable in advance or at the door by cash\, check\, or (new!) credit card.<br />\n<br />\nRSVP by October 8\, 2019 by clicking the Register Now button\, calling 330-343-4474 or emailing info@tuschamber.com.<br />\n<br />\n<u><strong><a href="https://chambermaster.blob.core.windows.net/userfiles/UserFiles/chambers/1349/File/BAH/OctoberBAH2019-HouseofStones.pdf">Download a printable PDF registration form - Click Here</a></strong></u><br />\n&nbsp\;
LOCATION:Rodriguez's House of Stones 108 East High Avenue New Philadelphia\, OH 44663
UID:e.1349.777
SEQUENCE:3
DTSTAMP:20260420T045646Z
URL:http://business.tuschamber.com/events/details/october-business-after-hours-777
END:VEVENT

END:VCALENDAR
