BEGIN:VCALENDAR
VERSION:2.0
PRODID:-//ChamberMaster//Event Calendar 2.0//EN
METHOD:PUBLISH
X-PUBLISHED-TTL:P3D
REFRESH-INTERVAL:P3D
CALSCALE:GREGORIAN
BEGIN:VEVENT
DTSTART:20181018T153000Z
DTEND:20181018T170000Z
X-MICROSOFT-CDO-ALLDAYEVENT:FALSE
SUMMARY:October Safety Council
DESCRIPTION:Topic: "Ohio Fire Code Update"\n\nPresented By: Roger Clark\, Certified Fire Safety Inspector\n\nOhio Department of Commerce - Division of State Fire Marshal
X-ALT-DESC;FMTTYPE=text/html:<p><br />\n<b>Topic: &quot\;Ohio Fire Code Update&quot\;<br />\nPresented By: Roger Clark\, Certified Fire Safety Inspector<br />\nOhio Department of Commerce - Division of State Fire Marshal</b></p>\n
LOCATION:Dutch Valley Restaurant 1343 Old Route 39 NE Sugarcreek\, Ohio 44681
UID:e.1349.741
SEQUENCE:3
DTSTAMP:20260423T060257Z
URL:http://business.tuschamber.com/events/details/october-safety-council-741
END:VEVENT

END:VCALENDAR
