BEGIN:VCALENDAR
VERSION:2.0
PRODID:-//ChamberMaster//Event Calendar 2.0//EN
METHOD:PUBLISH
X-PUBLISHED-TTL:P3D
REFRESH-INTERVAL:P3D
CALSCALE:GREGORIAN
BEGIN:VEVENT
DTSTART:20191017T153000Z
DTEND:20191017T170000Z
X-MICROSOFT-CDO-ALLDAYEVENT:FALSE
SUMMARY:October Safety Council
DESCRIPTION:Topic: Bloodborne Pathogens\n\nPresented By: Barbara Varrati\, RN\, MSN\, COHN-S\n\n\n\nBarbara is a graduate of The Ohio State University and received her Master's degree in Nursing from Case Western Reserve University. Her nursing background includes coronary care and infection control. She has served as past Chairman of the Tuscarawas County Chamber of Commerce as well as a Clinical Instructor of Nursing at Kent State Tuscarawas.
X-ALT-DESC;FMTTYPE=text/html:<p><br />\nTopic: Bloodborne Pathogens<br />\nPresented By: Barbara Varrati\, RN\, MSN\, COHN-S<br />\n<br />\nBarbara is a graduate of The Ohio State University and received her Master&#39\;s degree in Nursing from Case Western Reserve University. Her nursing background includes coronary care and infection control. She has served as past Chairman of the Tuscarawas County Chamber of Commerce as well as a Clinical Instructor of Nursing at Kent State Tuscarawas.<br />\n&nbsp\;</p>\n
LOCATION:Dutch Valley Restaurant 1343 Old Route 39 NE Sugarcreek\, Ohio 44681
UID:e.1349.780
SEQUENCE:3
DTSTAMP:20260419T215332Z
URL:http://business.tuschamber.com/events/details/october-safety-council-780
END:VEVENT

END:VCALENDAR
