BEGIN:VCALENDAR
VERSION:2.0
PRODID:-//ChamberMaster//Event Calendar 2.0//EN
METHOD:PUBLISH
X-PUBLISHED-TTL:P3D
REFRESH-INTERVAL:P3D
CALSCALE:GREGORIAN
BEGIN:VEVENT
DTSTART:20190919T153000Z
DTEND:20190919T170000Z
X-MICROSOFT-CDO-ALLDAYEVENT:FALSE
SUMMARY:September Safety Council
DESCRIPTION:Topic: Combustible Dust Hazards\n\nPresented By: Deb Bailey\, Safety Consultant Specialist\, Ohio Bureau of Workers' Compensation
X-ALT-DESC;FMTTYPE=text/html:<p><br />\nTopic: Combustible Dust Hazards<br />\nPresented By: Deb Bailey\, Safety Consultant Specialist\, Ohio Bureau of Workers&#39\; Compensation<br />\n&nbsp\;</p>\n
LOCATION:Dutch Valley Restaurant 1343 Old Route 39 NE Sugarcreek\, Ohio 44681
UID:e.1349.772
SEQUENCE:3
DTSTAMP:20260422T073617Z
URL:http://business.tuschamber.com/events/details/september-safety-council-772
END:VEVENT

END:VCALENDAR
