BEGIN:VCALENDAR
VERSION:2.0
PRODID:-//ChamberMaster//Event Calendar 2.0//EN
METHOD:PUBLISH
X-PUBLISHED-TTL:P3D
REFRESH-INTERVAL:P3D
CALSCALE:GREGORIAN
BEGIN:VEVENT
DTSTART:20180919T120000Z
DTEND:20180919T130000Z
X-MICROSOFT-CDO-ALLDAYEVENT:FALSE
SUMMARY:Tips Club
DESCRIPTION:Join us for a structured meeting with experienced networking leader\n\nPete Butler of The Schauer Group as he leads the group through\n\norganized lead mining and passing. Bring your business cards!\n\n\n\nRSVPs are suggested\, but not required. Please RSVP to 330-343-4474 or info@tuschamber.com.
X-ALT-DESC;FMTTYPE=text/html:<span style="language:en-US\;">Join us for a structured meeting with experienced networking leader<br />\nPete Butler of The Schauer Group as he leads the group through<br />\norganized lead mining and passing. Bring your business cards!<br />\n<br />\nRSVPs are suggested\, but not required. Please RSVP to 330-343-4474 or info@tuschamber.com.</span><br />\n&nbsp\;<br />\n&nbsp\;
LOCATION:Schoenbrunn Conference Center 143 Garland Drive SW\, New Philadelphia\, OH 44663
UID:e.1349.404
SEQUENCE:3
DTSTAMP:20260424T104238Z
URL:http://business.tuschamber.com/events/details/tips-club-09-19-2018-404
END:VEVENT

END:VCALENDAR
