BEGIN:VCALENDAR
VERSION:2.0
PRODID:-//ChamberMaster//Event Calendar 2.0//EN
METHOD:PUBLISH
X-PUBLISHED-TTL:P3D
REFRESH-INTERVAL:P3D
CALSCALE:GREGORIAN
BEGIN:VEVENT
DTSTART:20251208T210000Z
DTEND:20251208T230000Z
X-MICROSOFT-CDO-ALLDAYEVENT:FALSE
SUMMARY:Business After Hours
DESCRIPTION:Join the Tuscarawas County Chamber of Commerce and Holmes County Chamber of Commerce for the combined December Business After Hours event.  Come enjoy food/drink from Park Street Pizza/Millersburg Brewing Company and network with local business and organization representatives.\n\nWe hope you can join us!\n\n  4:00 - 6:00 pm\n\n$10 Per Person - payable in advance or cash/check at the door.
X-ALT-DESC;FMTTYPE=text/html:<span style="color: rgb(51\, 51\, 51)\; font-family: sans-serif\, Arial\, Verdana\, &quot\;Trebuchet MS&quot\;\; font-size: 13px\; background-color: rgb(255\, 255\, 255)\;">Join the Tuscarawas County Chamber of Commerce and Holmes County Chamber of Commerce for the combined December Business After Hours event.&nbsp\; Come enjoy food/drink from Park Street Pizza/Millersburg Brewing Company and network with local business and organization representatives.<br />\nWe hope you can join us!<br />\n&nbsp\;&nbsp\;<strong>4:00 - 6:00 pm</strong></span><br style="color: rgb(51\, 51\, 51)\; font-family: sans-serif\, Arial\, Verdana\, &quot\;Trebuchet MS&quot\;\; font-size: 13px\;" />\n<span style="color: rgb(51\, 51\, 51)\; font-family: sans-serif\, Arial\, Verdana\, &quot\;Trebuchet MS&quot\;\; font-size: 13px\; background-color: rgb(255\, 255\, 255)\;">$10 Per Person - payable in advance or cash/check at the door.</span><br />\n&nbsp\;
LOCATION:Park Street Pizza - Hosted by The Commercial & Savings Bank 215 Dover Street NE Sugarcreek\, OH 44681
UID:e.1349.1243
SEQUENCE:3
DTSTAMP:20260421T045259Z
URL:https://business.tuschamber.com/events/details/business-after-hours-1243
END:VEVENT

END:VCALENDAR
