BEGIN:VCALENDAR
VERSION:2.0
PRODID:-//ChamberMaster//Event Calendar 2.0//EN
METHOD:PUBLISH
X-PUBLISHED-TTL:P3D
REFRESH-INTERVAL:P3D
CALSCALE:GREGORIAN
BEGIN:VEVENT
DTSTART:20251002T160000Z
DTEND:20251002T173000Z
X-MICROSOFT-CDO-ALLDAYEVENT:FALSE
SUMMARY:Membership Council Meeting
DESCRIPTION:Membership Council (Meets on first Thursday of the month at 12:00pm)\n\nThis council gives input for enhancing membership involvement\, participates in seeking member benefits\, and recruits new members. \nContact Scott Robinson at 330-343-4474 for details and more information.
X-ALT-DESC;FMTTYPE=text/html:&nbsp\;\n<h3>Membership Council (Meets on first&nbsp\;Thursday of the month at 12:00pm)</h3>\n\n<p>This council gives input for enhancing membership involvement\, participates in seeking member benefits\, and recruits new members.&nbsp\;</p>\nContact Scott Robinson at 330-343-4474 for details and more information.
LOCATION:TBA
UID:e.1349.1073
SEQUENCE:3
DTSTAMP:20260421T080319Z
URL:https://business.tuschamber.com/events/details/membership-council-meeting-10-02-2025-1073
END:VEVENT

END:VCALENDAR
