BEGIN:VCALENDAR
VERSION:2.0
PRODID:-//ChamberMaster//Event Calendar 2.0//EN
METHOD:PUBLISH
X-PUBLISHED-TTL:P3D
REFRESH-INTERVAL:P3D
CALSCALE:GREGORIAN
BEGIN:VEVENT
DTSTART:20251106T170000Z
DTEND:20251106T183000Z
X-MICROSOFT-CDO-ALLDAYEVENT:FALSE
SUMMARY:Membership Council Meeting
DESCRIPTION:Membership Council (Meets on first Thursday of the month at 12:00pm)\n\nThis council gives input for enhancing membership involvement\, participates in seeking member benefits\, and recruits new members. \nContact Scott Robinson at 330-343-4474 or email scottr@tuschamber.com  for details and more information.
X-ALT-DESC;FMTTYPE=text/html:&nbsp\;\n<h3>Membership Council (Meets on first&nbsp\;Thursday of the month at 12:00pm)</h3>\n\n<p>This council gives input for enhancing membership involvement\, participates in seeking member benefits\, and recruits new members.&nbsp\;</p>\nContact Scott Robinson at 330-343-4474 or email scottr@tuschamber.com&nbsp\; for details and more information.
LOCATION:TBA
UID:e.1349.1074
SEQUENCE:3
DTSTAMP:20260421T062138Z
URL:https://business.tuschamber.com/events/details/membership-council-meeting-11-06-2025-1074
END:VEVENT

END:VCALENDAR
