BEGIN:VCALENDAR
VERSION:2.0
PRODID:-//ChamberMaster//Event Calendar 2.0//EN
METHOD:PUBLISH
X-PUBLISHED-TTL:P3D
REFRESH-INTERVAL:P3D
CALSCALE:GREGORIAN
BEGIN:VEVENT
DTSTART:20250320T153000Z
DTEND:20250320T170000Z
X-MICROSOFT-CDO-ALLDAYEVENT:FALSE
SUMMARY:Safety Council
DESCRIPTION:Speaker:  Mark Eitzman\, Safety Applications and Project Manager\n\nTopic:  The Standards-Based Risk Assessment & Mitigation Approach for Manufacturing Machinery \n\nMark is responsible for helping IMS's clients properly apply machine safety technologies and attain regulatory compliance while maximizing manufacturing productivity. In this role\, Mark provides consultation and solution engineering that integrates machine guarding\, risk reduction methods and safety automation into manufacturing machine controls where people and machines collaborate.\n\nMark has been in the automation industry for over 40 years. Prior to his current position\, Mark was with Rockwell Automation for more than 30 years\, in various commercial\, product and business management roles. There Mark led a team of some of the world's foremost machine safety experts to develop the global market for machine safety and automation technology and techniques. Mark joined IMS in 2020.\n\nMark earned Bachelor of Arts degree in Management from Malone College in Canton\, Ohio\, a Certificate of Industrial Distribution Management from Texas A&M University and a certifications in Machine Safety and Industrial Cybersecurity from T V Rheinland.\n\n\n\nLearn about the process to mitigate hazards and risk for machinery\, used by the globe's most productive and safest manufacturers. The machine safety standards provide clear guidance through the five steps referred to as the Machine Safety Life Cycle.  Further\, this process generates the documentation needed to prove compliance with OSHA regulations.
X-ALT-DESC;FMTTYPE=text/html:<span style="font-family:aptos\;"><span style="font-size:11.0pt\;">Speaker:&nbsp\; Mark Eitzman\,&nbsp\;</span></span><span style="font-size:12px\;"><span style="font-family:arial\;"><strong><em>Safety Applications and Project Manager</em></strong></span></span><br />\n<span style="font-family:aptos\;"><span style="font-size:11.0pt\;">Topic:&nbsp\;</span></span><span style="font-family:times new roman\,serif\;"><span style="font-size:12.0pt\;">&nbsp\;</span></span><span style="font-size:12px\;"><span style="font-family:arial\;"><strong>The Standards-Based Risk Assessment &amp\; Mitigation Approach for Manufacturing Machinery</strong>&nbsp\;</span></span><br />\nMark is responsible for helping IMS&rsquo\;s clients properly apply machine safety technologies and attain regulatory compliance while maximizing manufacturing productivity. In this role\, Mark provides consultation and solution engineering that integrates machine guarding\, risk reduction methods and safety automation into manufacturing machine controls where people and machines collaborate.<br />\nMark has been in the automation industry for over 40 years. Prior to his current position\, Mark was with Rockwell Automation for more than 30 years\, in various commercial\, product and business management roles. There Mark led a team of some of the world&rsquo\;s foremost machine safety experts to develop the global market for machine safety and automation technology and techniques. Mark joined IMS in 2020.<br />\nMark earned Bachelor of Arts degree in Management from Malone College in Canton\, Ohio\, a Certificate of Industrial Distribution Management from Texas A&amp\;M University and a certifications in Machine Safety and Industrial Cybersecurity from T&Uuml\;V Rheinland.<br />\n<br />\n<strong>Learn about the process to mitigate hazards and risk for machinery\, used by the globe&#39\;s most productive and safest manufacturers. The machine safety standards provide clear guidance through the five steps referred to as the Machine Safety Life Cycle.&nbsp\; Further\, this process generates the documentation needed to prove compliance with OSHA regulations.</strong><br />\n<br />\n<br />\n&nbsp\;
LOCATION:Dutch Valley Restaurant 1343 Old Rt 39 NE Sugarcreek\, OH 44681
UID:e.1349.1217
SEQUENCE:3
DTSTAMP:20260424T165100Z
URL:https://business.tuschamber.com/events/details/safety-council-1217
END:VEVENT

END:VCALENDAR
