BEGIN:VCALENDAR
VERSION:2.0
PRODID:-//ChamberMaster//Event Calendar 2.0//EN
METHOD:PUBLISH
X-PUBLISHED-TTL:P3D
REFRESH-INTERVAL:P3D
CALSCALE:GREGORIAN
BEGIN:VEVENT
DTSTART:20260115T163000Z
DTEND:20260115T180000Z
X-MICROSOFT-CDO-ALLDAYEVENT:FALSE
SUMMARY:Safety Council
DESCRIPTION:OSHA's self audit programs including the Voluntary Protection Programs\n\nPresented By:  Melissa Linton\, Voluntary Protection Programs Manager\n\nCooperative and State Programs\, US Department of Labor-OSHA\n\n\n\nOSHA recognizes employers with strong safety and health programs and low injury and illness rates through its Voluntary Protection Programs (VPP).  VPP information covered will include ways to participate\, the application process\, and resources to start the journey
X-ALT-DESC;FMTTYPE=text/html:<p><span style="font-size:14px\;"><strong><span style="font-family:aptos\;">OSHA&rsquo\;s self audit programs including the Voluntary Protection Programs</span></strong></span><br />\n<span style="font-size:12px\;"><strong>Presented By:&nbsp\; Melissa Linton\,&nbsp\;</strong></span><strong>Voluntary Protection Programs Manager</strong><br />\n<strong>Cooperative and State Programs\,&nbsp\;</strong><strong>US Department of Labor-OSHA</strong><br />\n<br />\n<span style="font-family:aptos\;"><span style="font-size:11.0pt\;">OSHA recognizes employers with strong safety and health programs and low injury and illness rates through its Voluntary Protection Programs (VPP).&nbsp\; VPP information covered will include ways to participate\, the application process\, and resources to start the journey</span></span></p>\n
LOCATION:Dutch Valley Restaurant 1343 Old Route 39 NE Sugarcreek\, Ohio 44681
UID:e.1349.1245
SEQUENCE:3
DTSTAMP:20260421T032609Z
URL:https://business.tuschamber.com/events/details/safety-council-1245
END:VEVENT

END:VCALENDAR
