BEGIN:VCALENDAR
VERSION:2.0
PRODID:-//ChamberMaster//Event Calendar 2.0//EN
METHOD:PUBLISH
X-PUBLISHED-TTL:P3D
REFRESH-INTERVAL:P3D
CALSCALE:GREGORIAN
BEGIN:VEVENT
DTSTART:20260319T153000Z
DTEND:20260319T170000Z
X-MICROSOFT-CDO-ALLDAYEVENT:FALSE
SUMMARY:Safety Council
DESCRIPTION:Topic:  AI & Safety: Predict\, Prevent\, Protect\n\nSpeaker:  Rick Barker\, CPE\, CSP - Velocity EHS\n\n\n\nSerious Injuries & Fatalities aren't just numbers\; they're the events that forever change lives\, families\, and communities. Every health and safety professional feel that responsibility\, and it's why the slow progress in SIF reduction is so concerning. Even as other injuries decline\, the most devastating incidents remain stubbornly difficult to predict and prevent. The challenge isn't commitment\, it's visibility. \n\n \n\nThis session explores how AI can help provide that visibility. By rapidly analyzing incident data\, AI identifies potential SIFs (pSIFs)\, uncovers hidden hazards\, and reveals patterns that are nearly impossible to detect manually\, giving teams a sharper lens on the risks that matter most. \n\n \n\nBut true prevention requires going upstream\, before an incident ever occurs. That's where Job Safety Analyses (JSAs) come in. JSAs have long been the backbone of proactive risk assessment\, yet they depend heavily on individual hazard-recognition skills\, time\, and consistency. AI strengthens this foundational process by highlighting overlooked hazards\, suggesting stronger controls\, and offering a more complete\, objective view of risk. \n\n \n\nTogether\, these advances allow organizations to better identify SIF exposure\, enhance the quality of JSAs\, and take more confident action to protect their people.
X-ALT-DESC;FMTTYPE=text/html:<span style="font-family:times new roman\,serif\;"><span style="font-size:12.0pt\;">Topic:&nbsp\; </span></span><span style="color:#000000\;">AI &amp\; Safety: Predict\, Prevent\, Protect</span><br />\n<span style="font-size:14px\;"><span style="color: rgb(1\, 13\, 57)\; font-family: Figtree\, sans-serif\; background-color: rgb(255\, 255\, 255)\;"><span style="font-family:times new roman\;">Speaker:&nbsp\; </span></span><span style="color:#000000\;"><span style="font-family: Figtree\, sans-serif\; background-color: rgb(255\, 255\, 255)\;"><span style="font-size:12px\;">Rick Barker\, CPE\, CSP - Velocity EHS</span></span></span></span><br />\n<br />\nSerious Injuries &amp\; Fatalities aren&rsquo\;t just numbers\; they&rsquo\;re the events that forever change lives\, families\, and communities. Every health and safety professional feel that responsibility\, and it&rsquo\;s why the slow progress in SIF reduction is so concerning. Even as other injuries decline\, the most devastating incidents remain stubbornly difficult to predict and prevent. The challenge isn&rsquo\;t commitment\, it&rsquo\;s visibility.&nbsp\;<br />\n&nbsp\;<br />\nThis session explores how AI can help provide that visibility. By rapidly analyzing incident data\, AI identifies potential SIFs (pSIFs)\, uncovers hidden hazards\, and reveals patterns that are nearly impossible to detect manually\, giving teams a sharper lens on the risks that matter most.&nbsp\;<br />\n&nbsp\;<br />\nBut true prevention requires going upstream\, before an incident ever occurs. That&rsquo\;s where Job Safety Analyses (JSAs) come in. JSAs have long been the backbone of proactive risk assessment\, yet they depend heavily on individual hazard-recognition skills\, time\, and consistency. AI strengthens this foundational process by highlighting overlooked hazards\, suggesting stronger controls\, and offering a more complete\, objective view of risk.&nbsp\;<br />\n&nbsp\;<br />\nTogether\, these advances allow organizations to better identify SIF exposure\, enhance the quality of JSAs\, and take more confident action to protect their people.&nbsp\;<br />\n<br />\n&nbsp\;
LOCATION:Dutch Valley Restaurant 1343 Old Route 39 NE Sugarcreek\, Ohio 44681
UID:e.1349.1249
SEQUENCE:3
DTSTAMP:20260421T002519Z
URL:https://business.tuschamber.com/events/details/safety-council-1249
END:VEVENT

END:VCALENDAR
