BEGIN:VCALENDAR
VERSION:2.0
PRODID:-//ChamberMaster//Event Calendar 2.0//EN
METHOD:PUBLISH
X-PUBLISHED-TTL:P3D
REFRESH-INTERVAL:P3D
CALSCALE:GREGORIAN
BEGIN:VEVENT
DTSTART:20251016T153000Z
DTEND:20251016T170000Z
X-MICROSOFT-CDO-ALLDAYEVENT:FALSE
SUMMARY:Safety Council Meeting
DESCRIPTION:Topic: : Business Fire Safety & Provention\n\nSpeaker: Joshua Amspaugh\,  Ohio Division of State Fire Marshal's Fire Prevention Bureau\n\n\n\nJosh Amspaugh is a certified Fire and Life Safety Educator with the Ohio Division of State Fire Marshal's Fire Prevention Bureau. Josh has been with the Marshal's office for 15 years educating Ohio citizens of all ages\, and Public Safety Officials who attend the Ohio Fire Academy for their professional training. Josh also serves as a Captain and Training Officer with the Mary Ann Twp. Fire Department located in northeast Licking County. Josh began his career in public safety during his 2001 senior year of high school in Millersport\, Ohio after spending his younger years around the fire service with many family members themselves being public safety servants. Due to his passion for the fire service and safety of others\, Josh has served on many committees in many capacities over his career to better train and protect Ohioans through prevention education.\n\n \n\nIn his free time\, Josh enjoys spending time with his wife Keisha\, daughter's Harper and Amelia\, and the family puppy Hadley Brooks.
X-ALT-DESC;FMTTYPE=text/html:<br />\n<b>Topic:&nbsp\;</b><span style="font-family:aptos\;"><span style="font-size:12.0pt\;">: <strong>Business Fire Safety &amp\; Provention</strong></span></span><br />\n<b>Speaker: <span style="font-family:arial\;">Joshua Amspaugh\,&nbsp\;&nbsp\;</span></b><strong><span style="color: rgb(51\, 51\, 51)\; font-family: sans-serif\, Arial\, Verdana\, &quot\;Trebuchet MS&quot\;\; font-size: 13px\; background-color: rgb(255\, 255\, 255)\;">Ohio Division of State Fire Marshal&rsquo\;s Fire Prevention Bureau</span></strong><br />\n<br />\nJosh Amspaugh is a certified Fire and Life Safety Educator with the Ohio Division of State Fire Marshal&rsquo\;s Fire Prevention Bureau. Josh has been with the Marshal&rsquo\;s office for 15 years educating Ohio citizens of all ages\, and Public Safety Officials who attend the Ohio Fire Academy for their professional training. Josh also serves as a Captain and Training Officer with the Mary Ann Twp. Fire Department located in northeast Licking County. Josh began his career in public safety during his 2001 senior year of high school in Millersport\, Ohio after spending his younger years around the fire service with many family members themselves being public safety servants. Due to his passion for the fire service and safety of others\, Josh has served on many committees in many capacities over his career to better train and protect Ohioans through prevention education.<br />\n&nbsp\;<br />\nIn his free time\, Josh enjoys spending time with his wife Keisha\, daughter&rsquo\;s Harper and Amelia\, and the family puppy Hadley Brooks.<br />\n&nbsp\;
LOCATION:Dutch Valley Restaurant 1343 Old Rte. 39 NE Sugarcreek\, OH 44681
UID:e.1349.1235
SEQUENCE:3
DTSTAMP:20260421T074707Z
URL:https://business.tuschamber.com/events/details/safety-council-meeting-1235
END:VEVENT

END:VCALENDAR
