BEGIN:VCALENDAR
VERSION:2.0
PRODID:-//ChamberMaster//Event Calendar 2.0//EN
METHOD:PUBLISH
X-PUBLISHED-TTL:P3D
REFRESH-INTERVAL:P3D
CALSCALE:GREGORIAN
BEGIN:VEVENT
DTSTART:20260617T120000Z
DTEND:20260617T130000Z
X-MICROSOFT-CDO-ALLDAYEVENT:FALSE
SUMMARY:Tips Club
DESCRIPTION:Join us for a structured meeting with experienced networking leader Pete Butler of The Schauer Group as he leads the group through organized lead mining and passing. Bring your business cards!\n\n\n\nRSVPs are suggested\, but not required. Please RSVP to 330-343-4474 or info@tuschamber.com.
X-ALT-DESC;FMTTYPE=text/html:<span style="language:en-US\;">Join us for a structured meeting with experienced networking leader&nbsp\;Pete Butler of The Schauer Group as he leads the group through&nbsp\;organized lead mining and passing. Bring your business cards!<br />\n<br />\nRSVPs are suggested\, but not required. Please RSVP to 330-343-4474 or info@tuschamber.com.</span><br />\n&nbsp\;<br />\n&nbsp\;
LOCATION:Schoenbrunn Conference Center 143 Garland Drive SW New Philadelphia\, OH 44663
UID:e.1349.497
SEQUENCE:3
DTSTAMP:20260423T211836Z
URL:https://business.tuschamber.com/events/details/tips-club-06-17-2026-497
END:VEVENT

END:VCALENDAR
